BEGIN:VCALENDAR
VERSION:2.0
PRODID:-//Taucher-Zentrum Hamburg - ECPv6.15.11//NONSGML v1.0//EN
CALSCALE:GREGORIAN
METHOD:PUBLISH
X-ORIGINAL-URL:https://stage.taucher-zentrum.de
X-WR-CALDESC:Veranstaltungen für Taucher-Zentrum Hamburg
REFRESH-INTERVAL;VALUE=DURATION:PT1H
X-Robots-Tag:noindex
X-PUBLISHED-TTL:PT1H
BEGIN:VTIMEZONE
TZID:Europe/Berlin
BEGIN:DAYLIGHT
TZOFFSETFROM:+0100
TZOFFSETTO:+0200
TZNAME:CEST
DTSTART:20230326T010000
END:DAYLIGHT
BEGIN:STANDARD
TZOFFSETFROM:+0200
TZOFFSETTO:+0100
TZNAME:CET
DTSTART:20231029T010000
END:STANDARD
BEGIN:DAYLIGHT
TZOFFSETFROM:+0100
TZOFFSETTO:+0200
TZNAME:CEST
DTSTART:20240331T010000
END:DAYLIGHT
BEGIN:STANDARD
TZOFFSETFROM:+0200
TZOFFSETTO:+0100
TZNAME:CET
DTSTART:20241027T010000
END:STANDARD
BEGIN:DAYLIGHT
TZOFFSETFROM:+0100
TZOFFSETTO:+0200
TZNAME:CEST
DTSTART:20250330T010000
END:DAYLIGHT
BEGIN:STANDARD
TZOFFSETFROM:+0200
TZOFFSETTO:+0100
TZNAME:CET
DTSTART:20251026T010000
END:STANDARD
END:VTIMEZONE
BEGIN:VEVENT
DTSTART;TZID=Europe/Berlin:20240321T180000
DTEND;TZID=Europe/Berlin:20240321T210000
DTSTAMP:20260419T175409
CREATED:20220706T110633Z
LAST-MODIFIED:20240227T111146Z
UID:10001629-1711044000-1711054800@stage.taucher-zentrum.de
SUMMARY:Trocki Reparaturen
DESCRIPTION:Workshop „Trocki-Reparaturen“ \nEs soll nicht sein\, passiert aber immer mal wieder – dein Trocki ist undicht. Wir zeigen Dir\, wie Du einen ersten Dichtigkeitstest selber durchführen kannst. Außerdem lernst Du alles zu Pflege und Wartung Deines Trockentauchanzuges und wie Du kleine Undichtigkeiten schnell selber beheben kannst. \nPreis: 59\,- € • Club kostenlos\nFür alle\, die sich in den letzten 12 Monaten einen Trocki bei uns gekauft haben ist der Workshop kostenlos. \nDie Mindestteilnehmerzahl bei unseren Kursen liegt bei 2 Personen.\nFür alle Anmeldungen gelten unsere  AGBs für Kurse\, Ausfahrten & Kurztrips. \n> JETZT ANMELDEN\n[wpforms id=“11570″ title=“false“ description=“false“] \n[blank h=“30″] \n[/blank]
URL:https://stage.taucher-zentrum.de/e/trocki-reparaturen-2023-11-09/2024-03-21/
LOCATION:Taucher-Zentrum\, Papenhuder Straße 40\, Hamburg\, 22087
CATEGORIES:Anfänger,Club,Kurse,Weiterbildung,Workshops
ATTACH;FMTTYPE=image/jpeg:https://stage.taucher-zentrum.de/wp-content/uploads/termine430x250_trockirep_SRomanowski_1362.jpg
END:VEVENT
END:VCALENDAR